BEGIN:VCALENDAR
VERSION:2.0
PRODID:-//「眾膳坊」食物銀行 | People’s Food Bank - ECPv5.3.2.1//NONSGML v1.0//EN
CALSCALE:GREGORIAN
METHOD:PUBLISH
X-WR-CALNAME:「眾膳坊」食物銀行 | People’s Food Bank
X-ORIGINAL-URL:https://foodbank.sjs.org.hk
X-WR-CALDESC:Events for 「眾膳坊」食物銀行 | People’s Food Bank
BEGIN:VTIMEZONE
TZID:Asia/Shanghai
BEGIN:STANDARD
TZOFFSETFROM:+0800
TZOFFSETTO:+0800
TZNAME:CST
DTSTART:20260101T000000
END:STANDARD
END:VTIMEZONE
BEGIN:VEVENT
DTSTART;VALUE=DATE:20260420
DTEND;VALUE=DATE:20260421
DTSTAMP:20260420T200604
CREATED:20260420T061316Z
LAST-MODIFIED:20260420T102119Z
UID:10276-1776643200-1776729599@foodbank.sjs.org.hk
SUMMARY:灣仔中心電話及傳真故障
DESCRIPTION:今天 (2026年4月20日) 聖雅各福群會短期食物援助服務隊 (灣仔) 電話 2596 2746及傳真2596 2754發生故障，如需直接聯絡灣仔中心請致電3974 4681，如需傳真請傳真至2915 5215，直至另行通知為止。 \n對於此次故障帶來之不便，深感抱歉，感謝你的理解與配合。 \n\n\nPlease be advised that the telephone number 2596 2746 and fax number 2596 2754 of the St. James’ Settlement Short-Term Food Assistance Service Team (Wanchai) are temporarily out of service today (20 April 2026). \nShould you require direct contact with the Wanchai Centre\, please call 3974 4681.\nFor fax correspondence\, kindly send documents to 2915 5215.\nThese interim arrangements will remain in effect until further notice. \nWe sincerely apologise for any inconvenience caused and appreciate your kind understanding and cooperation.
URL:https://foodbank.sjs.org.hk/event/%e7%81%a3%e4%bb%94%e4%b8%ad%e5%bf%83%e9%9b%bb%e8%a9%b1%e6%95%85%e9%9a%9c/
END:VEVENT
END:VCALENDAR